BEGIN:VCALENDAR
VERSION:2.0
PRODID:-//KVC Kansas - ECPv6.15.20//NONSGML v1.0//EN
CALSCALE:GREGORIAN
METHOD:PUBLISH
X-WR-CALNAME:KVC Kansas
X-ORIGINAL-URL:https://kansas.kvc.org
X-WR-CALDESC:Events for KVC Kansas
REFRESH-INTERVAL;VALUE=DURATION:PT1H
X-Robots-Tag:noindex
X-PUBLISHED-TTL:PT1H
BEGIN:VTIMEZONE
TZID:UTC
BEGIN:STANDARD
TZOFFSETFROM:+0000
TZOFFSETTO:+0000
TZNAME:UTC
DTSTART:20160101T000000
END:STANDARD
END:VTIMEZONE
BEGIN:VEVENT
DTSTART;TZID=UTC:20170617T090000
DTEND;TZID=UTC:20170617T150000
DTSTAMP:20260422T075717
CREATED:20170607T212615Z
LAST-MODIFIED:20170607T212615Z
UID:10001079-1497690000-1497711600@kansas.kvc.org
SUMMARY:K-PARC Workshop: Connecting Principles- Manhattan
DESCRIPTION:Kansas Post Adoption Resource Center (K-PARC) is offering a FREE workshop on the Trust Based Relational Intervention (TBRI).  TBRI is a way of caring and training children from hard places\, but it is also an approach that any caregiver\, educator\, or professional can use to help any child. \nDuring this training\, participants will learn infant and adult attachment\, the impact of attachment trauma\, the effects of parenting and care giving styles\, and concrete strategies for connecting with children who have experienced trauma. \nTo register for this training\, contact Clarisissa Maddy at 877-530-5275 or cmaddy@kcsl.org.
URL:https://kansas.kvc.org/event/k-parc-workshop-connecting-principles-manhattan/
LOCATION:People’s Bank Board Room\, 9370 E Hwy 24\, Manhattan\, KS\, United States
CATEGORIES:Training
END:VEVENT
END:VCALENDAR