BEGIN:VCALENDAR
VERSION:2.0
PRODID:-//KVC Kansas - ECPv6.15.20//NONSGML v1.0//EN
CALSCALE:GREGORIAN
METHOD:PUBLISH
X-WR-CALNAME:KVC Kansas
X-ORIGINAL-URL:https://kansas.kvc.org
X-WR-CALDESC:Events for KVC Kansas
REFRESH-INTERVAL;VALUE=DURATION:PT1H
X-Robots-Tag:noindex
X-PUBLISHED-TTL:PT1H
BEGIN:VTIMEZONE
TZID:America/Chicago
BEGIN:DAYLIGHT
TZOFFSETFROM:-0600
TZOFFSETTO:-0500
TZNAME:CDT
DTSTART:20130310T080000
END:DAYLIGHT
BEGIN:STANDARD
TZOFFSETFROM:-0500
TZOFFSETTO:-0600
TZNAME:CST
DTSTART:20131103T070000
END:STANDARD
BEGIN:DAYLIGHT
TZOFFSETFROM:-0600
TZOFFSETTO:-0500
TZNAME:CDT
DTSTART:20140309T080000
END:DAYLIGHT
BEGIN:STANDARD
TZOFFSETFROM:-0500
TZOFFSETTO:-0600
TZNAME:CST
DTSTART:20141102T070000
END:STANDARD
BEGIN:DAYLIGHT
TZOFFSETFROM:-0600
TZOFFSETTO:-0500
TZNAME:CDT
DTSTART:20150308T080000
END:DAYLIGHT
BEGIN:STANDARD
TZOFFSETFROM:-0500
TZOFFSETTO:-0600
TZNAME:CST
DTSTART:20151101T070000
END:STANDARD
END:VTIMEZONE
BEGIN:VEVENT
DTSTART;TZID=America/Chicago:20140619T160000
DTEND;TZID=America/Chicago:20140619T220000
DTSTAMP:20260423T120414
CREATED:20140610T010138Z
LAST-MODIFIED:20140610T010138Z
UID:10000800-1403193600-1403215200@kansas.kvc.org
SUMMARY:Cherry Berry Fundraiser - Wichita
DESCRIPTION:Join KVC families and staff at Cherry Berry on Maize Road in Wichita on June 19th from 4:00-10:00 p.m. to help raise money for KVC kids! 10% of all sales will be donated back to KVC! For more information\, please contact Stephanie Smith.
URL:https://kansas.kvc.org/event/cherry-berry-fundraiser-wichita/
LOCATION:Wichita Cherry Berry\, 737 N. Maize Road\, Wichita\, KS\, 67212\, United States
END:VEVENT
END:VCALENDAR